BEGIN:VCALENDAR
VERSION:2.0
PRODID:-//Cyprus Orienteering - ECPv6.15.20//NONSGML v1.0//EN
CALSCALE:GREGORIAN
METHOD:PUBLISH
X-WR-CALNAME:Cyprus Orienteering
X-ORIGINAL-URL:https://orienteering.cy
X-WR-CALDESC:Events for Cyprus Orienteering
REFRESH-INTERVAL;VALUE=DURATION:PT1H
X-Robots-Tag:noindex
X-PUBLISHED-TTL:PT1H
BEGIN:VTIMEZONE
TZID:UTC
BEGIN:STANDARD
TZOFFSETFROM:+0000
TZOFFSETTO:+0000
TZNAME:UTC
DTSTART:20250101T000000
END:STANDARD
END:VTIMEZONE
BEGIN:VEVENT
DTSTART;TZID=UTC:20260524T090000
DTEND;TZID=UTC:20260524T103000
DTSTAMP:20260422T222814
CREATED:20260422T074108Z
LAST-MODIFIED:20260422T074108Z
UID:1299-1779613200-1779618600@orienteering.cy
SUMMARY:2026 League Event 5\, Episkopi Village
DESCRIPTION:Registration: https://forms.gle/GohhVhinsAHyuHdYA \n  \nLeaflet: https://orienteering.cy/wp-content/uploads/2026/04/DETAILS-FOR-EPISKOPI-WOW-EVENT5-24-MAY-2026.pdf \nLocation in Google: https://maps.app.goo.gl/6eocfmqs413Z2GoaA \nLocation in Waze:  https://ul.waze.com/ul?ll=34.67167800%2C32.90159100&navigate=yes
URL:https://orienteering.cy/event/2026-league-event-5-episkopi-village/
CATEGORIES:Cyprus League
END:VEVENT
END:VCALENDAR