BEGIN:VCALENDAR
VERSION:2.0
PRODID:-//Cyprus Orienteering - ECPv6.15.11//NONSGML v1.0//EN
CALSCALE:GREGORIAN
METHOD:PUBLISH
X-ORIGINAL-URL:https://orienteering.cy
X-WR-CALDESC:Events for Cyprus Orienteering
REFRESH-INTERVAL;VALUE=DURATION:PT1H
X-Robots-Tag:noindex
X-PUBLISHED-TTL:PT1H
BEGIN:VTIMEZONE
TZID:UTC
BEGIN:STANDARD
TZOFFSETFROM:+0000
TZOFFSETTO:+0000
TZNAME:UTC
DTSTART:20240101T000000
END:STANDARD
END:VTIMEZONE
BEGIN:VEVENT
DTSTART;TZID=UTC:20250413T100000
DTEND;TZID=UTC:20250413T130000
DTSTAMP:20260422T012631
CREATED:20250110T134122Z
LAST-MODIFIED:20250412T214609Z
UID:942-1744538400-1744549200@orienteering.cy
SUMMARY:Cyprus O’League 2025\, Event 4\, Pikni forest
DESCRIPTION:registration – https://forms.gle/7pZKg1mxg5oTneFaA \n  \nlocation Google – https://maps.app.goo.gl/PbgVoZ5qaGTAraR49 \nlocation Waze – https://www.waze.com/live-map/directions?to=ll.34.895496%2C32.370924
URL:https://orienteering.cy/event/cyprus-oleague-2025-event-4-pikni-forest/
CATEGORIES:Cyprus League
ORGANIZER;CN="Orientaction (Diana)":MAILTO:dianabridger16@gmail.com
END:VEVENT
BEGIN:VEVENT
DTSTART;TZID=UTC:20250518T090000
DTEND;TZID=UTC:20250518T103000
DTSTAMP:20260422T012631
CREATED:20250415T115641Z
LAST-MODIFIED:20250515T134127Z
UID:1023-1747558800-1747564200@orienteering.cy
SUMMARY:Cyprus O’League 2025\, Event 5\, Episkopi Village
DESCRIPTION:Cyprus O’League 2025\, Event 5\nEpiskopi Village\n18th May 2025 \nleaflet – https://orienteering.cy/wp-content/uploads/2025/04/DETAILS-FOR-EPISKOPI-WOW-EVENT-5-18-MAY-2025.pdf \nlocation in Google – https://maps.app.goo.gl/6eocfmqs413Z2GoaA \nlocation in Waze – https://ul.waze.com/ul?ll=34.67167800%2C32.90159100&navigate=yes&utm_campaign=default&utm_source=waze_website&utm_medium=lm_share_location
URL:https://orienteering.cy/event/cyprus-oleague-2025-event-5-episkopi-village/
CATEGORIES:Cyprus League
ORGANIZER;CN="Orientaction (Diana)":MAILTO:dianabridger16@gmail.com
END:VEVENT
BEGIN:VEVENT
DTSTART;TZID=UTC:20250713T100000
DTEND;TZID=UTC:20250713T130000
DTSTAMP:20260422T012631
CREATED:20250703T114836Z
LAST-MODIFIED:20250703T114836Z
UID:1079-1752400800-1752411600@orienteering.cy
SUMMARY:Cyprus O’League 2025\, Event 7 Mount Olympus
DESCRIPTION:Leaflet  – https://orienteering.cy/wp-content/uploads/2025/07/DETAILS-FOR-MT-OLYMPUS-LEAGUE-EVENT-7-Sun13-July-2025.pdf \n  \nLocation Google – https://maps.app.goo.gl/ttuozffG2ftstfz28 \nLocation Waze – https://ul.waze.com/ul?ll=34.93202700%2C32.86857700&navigate=yes&utm_campaign=default&utm_source=waze_website&utm_medium=lm_share_location
URL:https://orienteering.cy/event/cyprus-oleague-2025-event-7-mount-olympus/
CATEGORIES:Cyprus League
ORGANIZER;CN="Orientaction (Diana)":MAILTO:dianabridger16@gmail.com
END:VEVENT
BEGIN:VEVENT
DTSTART;TZID=UTC:20250920T190000
DTEND;TZID=UTC:20250920T213000
DTSTAMP:20260422T012631
CREATED:20250818T094610Z
LAST-MODIFIED:20250818T094610Z
UID:1118-1758394800-1758403800@orienteering.cy
SUMMARY:Cyprus O’League 2025\, Event 9 Kalavasos village
DESCRIPTION:This is a NIGHT EVENT. Registration will be available from 19:00 hrs and the course will be open at\n19:30 hrs. Last start will be at 20:15 hrs and the course will close at 21:30 hrs. No starts will be available\nafter 20:15 hrs. \nGPS Coordinates: 34.772702\, 33.296857 \nLocation in Google \nLocation in Waze \n  \nREGISTRATION -> https://forms.gle/Bf2pnkhxF5A9ZURq8
URL:https://orienteering.cy/event/cyprus-oleague-2025-event-9-kalavasos-village/
CATEGORIES:Cyprus League
END:VEVENT
BEGIN:VEVENT
DTSTART;TZID=UTC:20251019T100000
DTEND;TZID=UTC:20251019T130000
DTSTAMP:20260422T012631
CREATED:20250924T082430Z
LAST-MODIFIED:20250924T082930Z
UID:1138-1760868000-1760878800@orienteering.cy
SUMMARY:Cyprus O’League 2025\, Event 10 Ineia & Droushia villages
DESCRIPTION:Cyprus Orienteering League Event 10 in Ineia & Droushia villages\, Paphos\, \non Sunday 19th October 2025 \nLeaflet:\nhttps://orienteering.cy/wp-content/uploads/2025/09/DETAILS-FOR-INEIA-DROUSHIA-LEAGUE-EVENT-10-19-Oct-2025.pdf \nRegistration:\nhttps://forms.gle/e9G5HpK6CvZ9Uo1u5 \nLocation in Google:\nhttps://maps.app.goo.gl/cwwVJnfCeymDvHAk9 \nLocation in Waze:\nhttps://ul.waze.com/ul?ll=34.95363900%2C32.39756600
URL:https://orienteering.cy/event/cyprus-oleague-2025-event-10-ineia-droushia-villages/
CATEGORIES:Cyprus League
END:VEVENT
BEGIN:VEVENT
DTSTART;TZID=UTC:20251116T100000
DTEND;TZID=UTC:20251116T130000
DTSTAMP:20260422T012631
CREATED:20251021T120003Z
LAST-MODIFIED:20251021T120003Z
UID:1156-1763287200-1763298000@orienteering.cy
SUMMARY:Cyprus O'League\, Event 11\, Tochni village
DESCRIPTION:Orienteering League Event 11 in Tochni village\, \non Sunday 16th November 2025 \nRegistration – https://forms.gle/4iTooUp3fW8BnDV6A \nLocation in Google – https://maps.app.goo.gl/dhwEAxiw4ieM9Nyq5 \nLocation in Wize – https://ul.waze.com/ul?ll=34.77639500%2C33.32462300&navigate=yes
URL:https://orienteering.cy/event/cyprus-oleague-event-11-tochni-village/
CATEGORIES:Cyprus League
ORGANIZER;CN="Orientaction (Diana)":MAILTO:dianabridger16@gmail.com
END:VEVENT
BEGIN:VEVENT
DTSTART;TZID=UTC:20260111T100000
DTEND;TZID=UTC:20260111T120000
DTSTAMP:20260422T012631
CREATED:20260105T143656Z
LAST-MODIFIED:20260105T144127Z
UID:1200-1768125600-1768132800@orienteering.cy
SUMMARY:2026 League Event 1\, Kato Drys village
DESCRIPTION:Leaflet: https://orienteering.cy/wp-content/uploads/2026/01/DETAILS-for-League-Event-1-KATO-DRYS-11-JAN-2026.pdf \n  \nLocation in Google: https://maps.app.goo.gl/n8fixrPMK8msmh9s7 \nLocation in Waze: https://ul.waze.com/ul?ll=34.85241400%2C33.30610600&navigate=yes
URL:https://orienteering.cy/event/2026-league-event-1-kato-drys-village/
CATEGORIES:Cyprus League
END:VEVENT
BEGIN:VEVENT
DTSTART;TZID=UTC:20260215T100000
DTEND;TZID=UTC:20260215T130000
DTSTAMP:20260422T012631
CREATED:20260112T120611Z
LAST-MODIFIED:20260212T100315Z
UID:1206-1771149600-1771160400@orienteering.cy
SUMMARY:2026 League Event 2\, KALAVASOS dam
DESCRIPTION:registration – https://forms.gle/ajCqnWj7cN9xgQt89 \n  \nlocation in Google – https://maps.app.goo.gl/FQ7j8fbn6zqXejsV9 \nlocation in OSM – https://www.openstreetmap.org/directions?from=&to=34.799479%2C33.259282 \nlocation in Waze – https://ul.waze.com/ul?ll=34.80002567%2C33.25913429&navigate=yes&utm_campaign=default&utm_source=waze_website&utm_medium=lm_share_location
URL:https://orienteering.cy/event/2026-league-event-2-kouris-dam/
CATEGORIES:Cyprus League
END:VEVENT
END:VCALENDAR