BEGIN:VCALENDAR
VERSION:2.0
PRODID:-//Cyprus Orienteering - ECPv6.15.11//NONSGML v1.0//EN
CALSCALE:GREGORIAN
METHOD:PUBLISH
X-ORIGINAL-URL:https://orienteering.cy
X-WR-CALDESC:Events for Cyprus Orienteering
REFRESH-INTERVAL;VALUE=DURATION:PT1H
X-Robots-Tag:noindex
X-PUBLISHED-TTL:PT1H
BEGIN:VTIMEZONE
TZID:UTC
BEGIN:STANDARD
TZOFFSETFROM:+0000
TZOFFSETTO:+0000
TZNAME:UTC
DTSTART:20240101T000000
END:STANDARD
END:VTIMEZONE
BEGIN:VEVENT
DTSTART;TZID=UTC:20251019T100000
DTEND;TZID=UTC:20251019T130000
DTSTAMP:20260420T184521
CREATED:20250924T082430Z
LAST-MODIFIED:20250924T082930Z
UID:1138-1760868000-1760878800@orienteering.cy
SUMMARY:Cyprus O’League 2025\, Event 10 Ineia & Droushia villages
DESCRIPTION:Cyprus Orienteering League Event 10 in Ineia & Droushia villages\, Paphos\, \non Sunday 19th October 2025 \nLeaflet:\nhttps://orienteering.cy/wp-content/uploads/2025/09/DETAILS-FOR-INEIA-DROUSHIA-LEAGUE-EVENT-10-19-Oct-2025.pdf \nRegistration:\nhttps://forms.gle/e9G5HpK6CvZ9Uo1u5 \nLocation in Google:\nhttps://maps.app.goo.gl/cwwVJnfCeymDvHAk9 \nLocation in Waze:\nhttps://ul.waze.com/ul?ll=34.95363900%2C32.39756600
URL:https://orienteering.cy/event/cyprus-oleague-2025-event-10-ineia-droushia-villages/
CATEGORIES:Cyprus League
END:VEVENT
END:VCALENDAR