BEGIN:VCALENDAR
VERSION:2.0
PRODID:-//Cyprus Orienteering - ECPv6.15.11//NONSGML v1.0//EN
CALSCALE:GREGORIAN
METHOD:PUBLISH
X-ORIGINAL-URL:https://orienteering.cy
X-WR-CALDESC:Events for Cyprus Orienteering
REFRESH-INTERVAL;VALUE=DURATION:PT1H
X-Robots-Tag:noindex
X-PUBLISHED-TTL:PT1H
BEGIN:VTIMEZONE
TZID:UTC
BEGIN:STANDARD
TZOFFSETFROM:+0000
TZOFFSETTO:+0000
TZNAME:UTC
DTSTART:20240101T000000
END:STANDARD
END:VTIMEZONE
BEGIN:VEVENT
DTSTART;TZID=UTC:20250413T100000
DTEND;TZID=UTC:20250413T130000
DTSTAMP:20260421T023508
CREATED:20250110T134122Z
LAST-MODIFIED:20250412T214609Z
UID:942-1744538400-1744549200@orienteering.cy
SUMMARY:Cyprus O’League 2025\, Event 4\, Pikni forest
DESCRIPTION:registration – https://forms.gle/7pZKg1mxg5oTneFaA \n  \nlocation Google – https://maps.app.goo.gl/PbgVoZ5qaGTAraR49 \nlocation Waze – https://www.waze.com/live-map/directions?to=ll.34.895496%2C32.370924
URL:https://orienteering.cy/event/cyprus-oleague-2025-event-4-pikni-forest/
CATEGORIES:Cyprus League
ORGANIZER;CN="Orientaction (Diana)":MAILTO:dianabridger16@gmail.com
END:VEVENT
END:VCALENDAR