BEGIN:VCALENDAR
VERSION:2.0
PRODID:-//Cyprus Orienteering - ECPv6.15.11//NONSGML v1.0//EN
CALSCALE:GREGORIAN
METHOD:PUBLISH
X-WR-CALNAME:Cyprus Orienteering
X-ORIGINAL-URL:https://orienteering.cy
X-WR-CALDESC:Events for Cyprus Orienteering
REFRESH-INTERVAL;VALUE=DURATION:PT1H
X-Robots-Tag:noindex
X-PUBLISHED-TTL:PT1H
BEGIN:VTIMEZONE
TZID:UTC
BEGIN:STANDARD
TZOFFSETFROM:+0000
TZOFFSETTO:+0000
TZNAME:UTC
DTSTART:20240101T000000
END:STANDARD
END:VTIMEZONE
BEGIN:VEVENT
DTSTART;TZID=UTC:20250223T100000
DTEND;TZID=UTC:20250223T130000
DTSTAMP:20260421T052451
CREATED:20250110T133808Z
LAST-MODIFIED:20250127T124732Z
UID:938-1740304800-1740315600@orienteering.cy
SUMMARY:Cyprus O’League 2025\, Event 2\, Kouris Dam
DESCRIPTION:Registration – https://docs.google.com/forms/d/e/1FAIpQLScMUPMYkUKqh0DzMSW0p-_GWiyge4vrqpeebH47lZi_icS13w/viewform \n  \n  \nLocation in Google Maps – https://maps.app.goo.gl/47D7CBjBkiZxyWRM8 \nLocation in Waze – https://ul.waze.com/ul?ll=34.71596216%2C32.92708755
URL:https://orienteering.cy/event/cyprus-oleague-2025-event-2-kouris-dam/
CATEGORIES:Cyprus League
ORGANIZER;CN="Pyxida Lemesos":MAILTO:waldymar@hotmail.com
END:VEVENT
END:VCALENDAR