BEGIN:VCALENDAR
VERSION:2.0
PRODID:-//Cyprus Orienteering - ECPv6.15.11//NONSGML v1.0//EN
CALSCALE:GREGORIAN
METHOD:PUBLISH
X-WR-CALNAME:Cyprus Orienteering
X-ORIGINAL-URL:https://orienteering.cy
X-WR-CALDESC:Events for Cyprus Orienteering
REFRESH-INTERVAL;VALUE=DURATION:PT1H
X-Robots-Tag:noindex
X-PUBLISHED-TTL:PT1H
BEGIN:VTIMEZONE
TZID:UTC
BEGIN:STANDARD
TZOFFSETFROM:+0000
TZOFFSETTO:+0000
TZNAME:UTC
DTSTART:20250101T000000
END:STANDARD
END:VTIMEZONE
BEGIN:VEVENT
DTSTART;TZID=UTC:20260421T183000
DTEND;TZID=UTC:20260421T210000
DTSTAMP:20260421T013956
CREATED:20260401T110357Z
LAST-MODIFIED:20260409T051824Z
UID:1282-1776796200-1776805200@orienteering.cy
SUMMARY:NICOSIA STREET QUEST 2026 – EVENT 2
DESCRIPTION:NEXT EVENT:\n\n Tuesday 21st APRIL 2026\,  18:30 to 21:00 Centre of Visual Arts and Research (CVAR)\, Ermou Street\, Old Nicosia.\n\nWhat you need: a pen to write down your answers a small torch cash for your entry fee\n\n\nRegistration opens at 18:30 and closes at 19:55. Start times will be available from 18:30 until 20:00.\nMaps and question sheets will be provided at the start. Electronic timing will not be used for the time being.\n\nEntry fee: €3 general fee\, €2 for under 12 years old\, free for under 5 years old.\n  \nVisit https://www.facebook.com/NicosiaStreetQuest for more information! \n 
URL:https://orienteering.cy/event/nicosia-street-quest-2026-event-2/
LOCATION:Nicosia Street Quest – CVAR\, 285\, Ermou Street\, Nicosia\, 1017\, Cyprus
ORGANIZER;CN="Orientaction (Chrysi)":MAILTO:nicosiastreetquest@hotmail.com
END:VEVENT
END:VCALENDAR